Package: GRaNIE Version: 1.8.0 Command: /Library/Frameworks/R.framework/Resources/bin/R CMD build --keep-empty-dirs --no-resave-data GRaNIE StartedAt: 2024-06-09 22:31:11 -0400 (Sun, 09 Jun 2024) EndedAt: 2024-06-09 22:36:08 -0400 (Sun, 09 Jun 2024) EllapsedTime: 296.7 seconds RetCode: 0 Status: OK PackageFile: GRaNIE_1.8.0.tar.gz PackageFileSize: 8.171 MiB