Package: GRaNIE Version: 1.8.0 Command: /Library/Frameworks/R.framework/Resources/bin/R CMD check --install=check:GRaNIE.install-out.txt --library=/Library/Frameworks/R.framework/Resources/library --no-vignettes --timings GRaNIE_1.8.0.tar.gz StartedAt: 2024-10-17 23:49:13 -0400 (Thu, 17 Oct 2024) EndedAt: 2024-10-17 23:58:03 -0400 (Thu, 17 Oct 2024) EllapsedTime: 529.4 seconds RetCode: 0 Status: WARNINGS CheckDir: GRaNIE.Rcheck Warnings: 1