Package: GRaNIE Version: 1.8.0 Command: /Library/Frameworks/R.framework/Resources/bin/R CMD build --keep-empty-dirs --no-resave-data GRaNIE StartedAt: 2024-10-17 01:47:10 -0400 (Thu, 17 Oct 2024) EndedAt: 2024-10-17 01:51:38 -0400 (Thu, 17 Oct 2024) EllapsedTime: 267.8 seconds RetCode: 0 Status: OK PackageFile: GRaNIE_1.8.0.tar.gz PackageFileSize: 8.13 MiB