Package: GRaNIE Version: 1.8.0 Command: rm -rf GRaNIE.buildbin-libdir && mkdir GRaNIE.buildbin-libdir && /Users/biocbuild/BBS/utils/build-universal.sh GRaNIE_1.8.0.tar.gz /Library/Frameworks/R.framework/Resources/bin/R GRaNIE.buildbin-libdir StartedAt: 2024-10-18 18:48:49 -0400 (Fri, 18 Oct 2024) EndedAt: 2024-10-18 18:50:02 -0400 (Fri, 18 Oct 2024) EllapsedTime: 72.5 seconds RetCode: 0 Status: OK PackageFile: GRaNIE_1.8.0.tgz PackageFileSize: 9.028 MiB