Package: GRENITS Version: 1.56.0 Command: /Library/Frameworks/R.framework/Resources/bin/R CMD build --keep-empty-dirs --no-resave-data GRENITS StartedAt: 2024-10-16 19:46:30 -0400 (Wed, 16 Oct 2024) EndedAt: 2024-10-16 19:50:29 -0400 (Wed, 16 Oct 2024) EllapsedTime: 238.7 seconds RetCode: 0 Status: OK PackageFile: GRENITS_1.56.0.tar.gz PackageFileSize: 266.8 KiB