Package: GPA Version: 1.16.0 Command: /Library/Frameworks/R.framework/Resources/bin/R CMD build --keep-empty-dirs --no-resave-data GPA StartedAt: 2024-06-09 22:30:15 -0400 (Sun, 09 Jun 2024) EndedAt: 2024-06-09 22:32:08 -0400 (Sun, 09 Jun 2024) EllapsedTime: 113.2 seconds RetCode: 0 Status: OK PackageFile: GPA_1.16.0.tar.gz PackageFileSize: 311.2 KiB