Package: GOstats Version: 2.70.0 Command: /home/biocbuild/bbs-3.19-bioc/R/bin/R CMD build --keep-empty-dirs --no-resave-data GOstats StartedAt: 2024-10-16 18:48:33 -0400 (Wed, 16 Oct 2024) EndedAt: 2024-10-16 19:02:26 -0400 (Wed, 16 Oct 2024) EllapsedTime: 833.8 seconds RetCode: 0 Status: OK PackageFile: GOstats_2.70.0.tar.gz PackageFileSize: 2.915 MiB