Package: GOstats Version: 2.70.0 Command: /Library/Frameworks/R.framework/Resources/bin/R CMD build --keep-empty-dirs --no-resave-data GOstats StartedAt: 2024-10-16 19:42:57 -0400 (Wed, 16 Oct 2024) EndedAt: 2024-10-16 20:22:58 -0400 (Wed, 16 Oct 2024) EllapsedTime: 2400.7 seconds RetCode: None Status: TIMEOUT PackageFile: None PackageFileSize: NA