Package: GOstats Version: 2.70.0 Command: /Library/Frameworks/R.framework/Resources/bin/R CMD check --install=check:GOstats.install-out.txt --library=/Library/Frameworks/R.framework/Resources/library --no-vignettes --timings GOstats_2.70.0.tar.gz StartedAt: 2024-06-09 20:44:00 -0400 (Sun, 09 Jun 2024) EndedAt: 2024-06-09 20:48:38 -0400 (Sun, 09 Jun 2024) EllapsedTime: 278.0 seconds RetCode: 0 Status: OK CheckDir: GOstats.Rcheck Warnings: 0