Package: GOstats Version: 2.70.0 Command: /Library/Frameworks/R.framework/Resources/bin/R CMD build --keep-empty-dirs --no-resave-data GOstats StartedAt: 2024-10-17 01:43:53 -0400 (Thu, 17 Oct 2024) EndedAt: 2024-10-17 02:12:59 -0400 (Thu, 17 Oct 2024) EllapsedTime: 1746.4 seconds RetCode: 0 Status: OK PackageFile: GOstats_2.70.0.tar.gz PackageFileSize: 2.905 MiB