Package: GOpro Version: 1.30.0 Command: E:\biocbuild\bbs-3.19-bioc\R\bin\R.exe CMD INSTALL GOpro StartedAt: 2024-10-16 16:22:47 -0400 (Wed, 16 Oct 2024) EndedAt: 2024-10-16 16:23:32 -0400 (Wed, 16 Oct 2024) EllapsedTime: 45.0 seconds RetCode: 0 Status: OK