Package: GOpro Version: 1.30.0 Command: rm -rf GOpro.buildbin-libdir && mkdir GOpro.buildbin-libdir && /Users/biocbuild/BBS/utils/build-universal.sh GOpro_1.30.0.tar.gz /Library/Frameworks/R.framework/Resources/bin/R GOpro.buildbin-libdir StartedAt: 2024-10-17 16:17:34 -0400 (Thu, 17 Oct 2024) EndedAt: 2024-10-17 16:19:09 -0400 (Thu, 17 Oct 2024) EllapsedTime: 94.7 seconds RetCode: 0 Status: OK PackageFile: GOpro_1.30.0.tgz PackageFileSize: 1.454 MiB