Package: GOfuncR Version: 1.24.0 Command: F:\biocbuild\bbs-3.19-bioc\R\bin\R.exe CMD INSTALL GOfuncR StartedAt: 2024-06-26 15:56:32 -0400 (Wed, 26 Jun 2024) EndedAt: 2024-06-26 16:00:03 -0400 (Wed, 26 Jun 2024) EllapsedTime: 211.1 seconds RetCode: 0 Status: OK