Package: GOfuncR Version: 1.24.0 Command: chmod a+r GOfuncR -R && F:\biocbuild\bbs-3.19-bioc\R\bin\R.exe CMD build --keep-empty-dirs --no-resave-data GOfuncR StartedAt: 2024-06-26 19:16:12 -0400 (Wed, 26 Jun 2024) EndedAt: 2024-06-26 19:27:17 -0400 (Wed, 26 Jun 2024) EllapsedTime: 664.9 seconds RetCode: 0 Status: OK PackageFile: GOfuncR_1.24.0.tar.gz PackageFileSize: 4.738 MiB