Package: GOfuncR Version: 1.24.0 Command: rm -rf GOfuncR.buildbin-libdir && mkdir GOfuncR.buildbin-libdir && F:\biocbuild\bbs-3.19-bioc\R\bin\R.exe CMD INSTALL --build --library=GOfuncR.buildbin-libdir GOfuncR_1.24.0.tar.gz StartedAt: 2024-06-27 08:18:27 -0400 (Thu, 27 Jun 2024) EndedAt: 2024-06-27 08:22:07 -0400 (Thu, 27 Jun 2024) EllapsedTime: 219.7 seconds RetCode: 0 Status: OK PackageFile: GOfuncR_1.24.0.zip PackageFileSize: 4.192 MiB