Package: GOfuncR Version: 1.24.0 Command: /home/biocbuild/R/R-beta-2024-04-15_r86425/bin/R CMD build --keep-empty-dirs --no-resave-data GOfuncR StartedAt: 2024-05-09 00:42:24 -0000 (Thu, 09 May 2024) EndedAt: 2024-05-09 00:49:17 -0000 (Thu, 09 May 2024) EllapsedTime: 413.5 seconds RetCode: 0 Status: OK PackageFile: GOfuncR_1.24.0.tar.gz PackageFileSize: 4.871 MiB