Package: GOfuncR Version: 1.24.0 Command: /Library/Frameworks/R.framework/Resources/bin/R CMD INSTALL GOfuncR StartedAt: 2024-10-16 16:12:47 -0400 (Wed, 16 Oct 2024) EndedAt: 2024-10-16 16:14:37 -0400 (Wed, 16 Oct 2024) EllapsedTime: 110.2 seconds RetCode: 0 Status: OK