Package: GOexpress Version: 1.38.0 Command: chmod a+r GOexpress -R && F:\biocbuild\bbs-3.19-bioc\R\bin\R.exe CMD build --keep-empty-dirs --no-resave-data GOexpress StartedAt: 2024-06-26 19:15:39 -0400 (Wed, 26 Jun 2024) EndedAt: 2024-06-26 19:16:25 -0400 (Wed, 26 Jun 2024) EllapsedTime: 46.4 seconds RetCode: 0 Status: OK PackageFile: GOexpress_1.38.0.tar.gz PackageFileSize: 2.346 MiB