Package: GOexpress Version: 1.38.0 Command: /home/biocbuild/R/R-beta-2024-04-15_r86425/bin/R CMD build --keep-empty-dirs --no-resave-data GOexpress StartedAt: 2024-05-09 00:42:07 -0000 (Thu, 09 May 2024) EndedAt: 2024-05-09 00:42:52 -0000 (Thu, 09 May 2024) EllapsedTime: 45.1 seconds RetCode: 0 Status: OK PackageFile: GOexpress_1.38.0.tar.gz PackageFileSize: 2.336 MiB