Package: GOexpress Version: 1.38.0 Command: /Library/Frameworks/R.framework/Resources/bin/R CMD check --install=check:GOexpress.install-out.txt --library=/Library/Frameworks/R.framework/Resources/library --no-vignettes --timings GOexpress_1.38.0.tar.gz StartedAt: 2024-10-17 23:35:02 -0400 (Thu, 17 Oct 2024) EndedAt: 2024-10-17 23:37:36 -0400 (Thu, 17 Oct 2024) EllapsedTime: 154.3 seconds RetCode: 0 Status: OK CheckDir: GOexpress.Rcheck Warnings: 0