Package: GOexpress Version: 1.38.0 Command: /Library/Frameworks/R.framework/Resources/bin/R CMD build --keep-empty-dirs --no-resave-data GOexpress StartedAt: 2024-10-17 01:37:53 -0400 (Thu, 17 Oct 2024) EndedAt: 2024-10-17 01:38:44 -0400 (Thu, 17 Oct 2024) EllapsedTime: 51.4 seconds RetCode: 0 Status: OK PackageFile: GOexpress_1.38.0.tar.gz PackageFileSize: 2.345 MiB