Package: GOexpress Version: 1.38.0 Command: rm -rf GOexpress.buildbin-libdir && mkdir GOexpress.buildbin-libdir && /Users/biocbuild/BBS/utils/build-universal.sh GOexpress_1.38.0.tar.gz /Library/Frameworks/R.framework/Resources/bin/R GOexpress.buildbin-libdir StartedAt: 2024-10-18 18:46:37 -0400 (Fri, 18 Oct 2024) EndedAt: 2024-10-18 18:47:04 -0400 (Fri, 18 Oct 2024) EllapsedTime: 27.2 seconds RetCode: 0 Status: OK PackageFile: GOexpress_1.38.0.tgz PackageFileSize: 3.026 MiB