Package: GOTHiC Version: 1.40.0 Command: rm -rf GOTHiC.buildbin-libdir && mkdir GOTHiC.buildbin-libdir && E:\biocbuild\bbs-3.19-bioc\R\bin\R.exe CMD INSTALL --build --library=GOTHiC.buildbin-libdir GOTHiC_1.40.0.tar.gz StartedAt: 2024-10-17 07:54:43 -0400 (Thu, 17 Oct 2024) EndedAt: 2024-10-17 07:55:28 -0400 (Thu, 17 Oct 2024) EllapsedTime: 45.5 seconds RetCode: 0 Status: OK PackageFile: GOTHiC_1.40.0.zip PackageFileSize: 1.636 MiB