Package: GOTHiC Version: 1.40.0 Command: F:\biocbuild\bbs-3.19-bioc\R\bin\R.exe CMD INSTALL GOTHiC StartedAt: 2024-06-26 16:17:35 -0400 (Wed, 26 Jun 2024) EndedAt: 2024-06-26 16:18:28 -0400 (Wed, 26 Jun 2024) EllapsedTime: 53.7 seconds RetCode: 0 Status: OK