Package: GOTHiC Version: 1.40.0 Command: rm -rf GOTHiC.buildbin-libdir && mkdir GOTHiC.buildbin-libdir && /Users/biocbuild/BBS/utils/build-universal.sh GOTHiC_1.40.0.tar.gz /Library/Frameworks/R.framework/Resources/bin/R GOTHiC.buildbin-libdir StartedAt: 2024-10-17 16:18:13 -0400 (Thu, 17 Oct 2024) EndedAt: 2024-10-17 16:19:55 -0400 (Thu, 17 Oct 2024) EllapsedTime: 101.8 seconds RetCode: 0 Status: OK PackageFile: GOTHiC_1.40.0.tgz PackageFileSize: 1.759 MiB