Package: GOSim Version: 1.42.0 Command: rm -rf GOSim.buildbin-libdir && mkdir GOSim.buildbin-libdir && F:\biocbuild\bbs-3.19-bioc\R\bin\R.exe CMD INSTALL --build --library=GOSim.buildbin-libdir GOSim_1.42.0.tar.gz StartedAt: 2024-06-27 08:18:38 -0400 (Thu, 27 Jun 2024) EndedAt: 2024-06-27 08:19:21 -0400 (Thu, 27 Jun 2024) EllapsedTime: 42.8 seconds RetCode: 0 Status: OK PackageFile: GOSim_1.42.0.zip PackageFileSize: 831 KiB