Package: GOSim Version: 1.42.0 Command: /Library/Frameworks/R.framework/Resources/bin/R CMD check --install=check:GOSim.install-out.txt --library=/Library/Frameworks/R.framework/Resources/library --no-vignettes --timings GOSim_1.42.0.tar.gz StartedAt: 2024-06-09 20:43:38 -0400 (Sun, 09 Jun 2024) EndedAt: 2024-06-09 20:52:08 -0400 (Sun, 09 Jun 2024) EllapsedTime: 510.1 seconds RetCode: 0 Status: OK CheckDir: GOSim.Rcheck Warnings: 0