Package: GOSim Version: 1.42.0 Command: rm -rf GOSim.buildbin-libdir && mkdir GOSim.buildbin-libdir && /Users/biocbuild/BBS/utils/build-universal.sh GOSim_1.42.0.tar.gz /Library/Frameworks/R.framework/Resources/bin/R GOSim.buildbin-libdir StartedAt: 2024-06-10 00:20:52 -0400 (Mon, 10 Jun 2024) EndedAt: 2024-06-10 00:21:31 -0400 (Mon, 10 Jun 2024) EllapsedTime: 38.3 seconds RetCode: 0 Status: OK PackageFile: GOSim_1.42.0.tgz PackageFileSize: 653 KiB