Package: GOSim Version: 1.42.0 Command: /Library/Frameworks/R.framework/Resources/bin/R CMD INSTALL GOSim StartedAt: 2024-10-16 16:18:53 -0400 (Wed, 16 Oct 2024) EndedAt: 2024-10-16 16:19:23 -0400 (Wed, 16 Oct 2024) EllapsedTime: 30.1 seconds RetCode: 0 Status: OK