Package: GOSim Version: 1.42.0 Command: /Library/Frameworks/R.framework/Resources/bin/R CMD build --keep-empty-dirs --no-resave-data GOSim StartedAt: 2024-10-17 01:40:20 -0400 (Thu, 17 Oct 2024) EndedAt: 2024-10-17 01:41:51 -0400 (Thu, 17 Oct 2024) EllapsedTime: 90.9 seconds RetCode: 0 Status: OK PackageFile: GOSim_1.42.0.tar.gz PackageFileSize: 562.6 KiB