Package: GOSemSim Version: 2.30.2 Command: /Library/Frameworks/R.framework/Resources/bin/R CMD INSTALL GOSemSim StartedAt: 2024-10-16 16:53:32 -0400 (Wed, 16 Oct 2024) EndedAt: 2024-10-16 16:53:58 -0400 (Wed, 16 Oct 2024) EllapsedTime: 26.5 seconds RetCode: 0 Status: OK