Package: GOSemSim Version: 2.30.2 Command: rm -rf GOSemSim.buildbin-libdir && mkdir GOSemSim.buildbin-libdir && /Users/biocbuild/BBS/utils/build-universal.sh GOSemSim_2.30.2.tar.gz /Library/Frameworks/R.framework/Resources/bin/R GOSemSim.buildbin-libdir StartedAt: 2024-10-18 18:47:05 -0400 (Fri, 18 Oct 2024) EndedAt: 2024-10-18 18:47:38 -0400 (Fri, 18 Oct 2024) EllapsedTime: 32.8 seconds RetCode: 0 Status: OK PackageFile: GOSemSim_2.30.2.tgz PackageFileSize: 1.143 MiB