Package: GNOSIS Version: 1.2.0 Command: E:\biocbuild\bbs-3.19-bioc\R\bin\R.exe CMD INSTALL GNOSIS StartedAt: 2024-10-16 17:19:19 -0400 (Wed, 16 Oct 2024) EndedAt: 2024-10-16 17:20:36 -0400 (Wed, 16 Oct 2024) EllapsedTime: 77.1 seconds RetCode: 0 Status: OK