Package: GNOSIS Version: 1.2.0 Command: chmod a+r GNOSIS -R && E:\biocbuild\bbs-3.19-bioc\R\bin\R.exe CMD build --keep-empty-dirs --no-resave-data GNOSIS StartedAt: 2024-10-16 19:30:03 -0400 (Wed, 16 Oct 2024) EndedAt: 2024-10-16 19:31:53 -0400 (Wed, 16 Oct 2024) EllapsedTime: 110.0 seconds RetCode: 0 Status: OK PackageFile: GNOSIS_1.2.0.tar.gz PackageFileSize: 3.373 MiB