Package: GNOSIS Version: 1.2.0 Command: rm -rf GNOSIS.buildbin-libdir && mkdir GNOSIS.buildbin-libdir && E:\biocbuild\bbs-3.19-bioc\R\bin\R.exe CMD INSTALL --build --library=GNOSIS.buildbin-libdir GNOSIS_1.2.0.tar.gz StartedAt: 2024-10-17 07:54:17 -0400 (Thu, 17 Oct 2024) EndedAt: 2024-10-17 07:55:40 -0400 (Thu, 17 Oct 2024) EllapsedTime: 83.3 seconds RetCode: 0 Status: OK PackageFile: GNOSIS_1.2.0.zip PackageFileSize: 2.529 MiB