Package: GNOSIS Version: 1.2.0 Command: /Library/Frameworks/R.framework/Resources/bin/R CMD build --keep-empty-dirs --no-resave-data GNOSIS StartedAt: 2024-10-16 19:40:08 -0400 (Wed, 16 Oct 2024) EndedAt: 2024-10-16 19:43:21 -0400 (Wed, 16 Oct 2024) EllapsedTime: 193.2 seconds RetCode: 0 Status: OK PackageFile: GNOSIS_1.2.0.tar.gz PackageFileSize: 3.374 MiB