Package: GNOSIS Version: 1.2.0 Command: rm -rf GNOSIS.buildbin-libdir && mkdir GNOSIS.buildbin-libdir && /Users/biocbuild/BBS/utils/build-universal.sh GNOSIS_1.2.0.tar.gz /Library/Frameworks/R.framework/Resources/bin/R GNOSIS.buildbin-libdir StartedAt: 2024-10-17 16:17:24 -0400 (Thu, 17 Oct 2024) EndedAt: 2024-10-17 16:20:10 -0400 (Thu, 17 Oct 2024) EllapsedTime: 165.7 seconds RetCode: 0 Status: OK PackageFile: GNOSIS_1.2.0.tgz PackageFileSize: 2.528 MiB