Package: GNOSIS Version: 1.2.0 Command: /home/biocbuild/R/R-beta-2024-04-15_r86425/bin/R CMD INSTALL GNOSIS StartedAt: 2024-05-08 21:04:38 -0000 (Wed, 08 May 2024) EndedAt: 2024-05-08 21:05:55 -0000 (Wed, 08 May 2024) EllapsedTime: 77.4 seconds RetCode: 0 Status: OK