Package: GNOSIS Version: 1.2.0 Command: /home/biocbuild/R/R-beta-2024-04-15_r86425/bin/R CMD check --install=check:GNOSIS.install-out.txt --library=/home/biocbuild/R/R-beta-2024-04-15_r86425/site-library --no-vignettes --timings GNOSIS_1.2.0.tar.gz StartedAt: 2024-05-09 08:00:15 -0000 (Thu, 09 May 2024) EndedAt: 2024-05-09 08:07:44 -0000 (Thu, 09 May 2024) EllapsedTime: 448.8 seconds RetCode: 0 Status: WARNINGS CheckDir: GNOSIS.Rcheck Warnings: 1