Package: GNOSIS Version: 1.2.0 Command: /Library/Frameworks/R.framework/Resources/bin/R CMD INSTALL GNOSIS StartedAt: 2024-10-16 18:51:47 -0400 (Wed, 16 Oct 2024) EndedAt: 2024-10-16 18:53:00 -0400 (Wed, 16 Oct 2024) EllapsedTime: 73.4 seconds RetCode: 0 Status: OK