Package: GNOSIS Version: 1.2.0 Maintainer: Lydia King MaintainerEmail: l.king18 at universityofgalway.ie git_url: https://git.bioconductor.org/packages/GNOSIS git_branch: RELEASE_3_19 git_last_commit: bed2478 git_last_commit_date: 2024-04-30 11:52:40 -0400 (Tue, 30 Apr 2024)