Package: GNET2 Version: 1.20.0 Command: F:\biocbuild\bbs-3.19-bioc\R\bin\R.exe CMD INSTALL GNET2 StartedAt: 2024-06-26 16:15:16 -0400 (Wed, 26 Jun 2024) EndedAt: 2024-06-26 16:16:06 -0400 (Wed, 26 Jun 2024) EllapsedTime: 50.5 seconds RetCode: 0 Status: OK