Package: GNET2 Version: 1.20.0 Command: /home/biocbuild/bbs-3.19-bioc/R/bin/R CMD check --install=check:GNET2.install-out.txt --library=/home/biocbuild/bbs-3.19-bioc/R/site-library --timings GNET2_1.20.0.tar.gz StartedAt: 2024-10-17 01:02:30 -0400 (Thu, 17 Oct 2024) EndedAt: 2024-10-17 01:05:26 -0400 (Thu, 17 Oct 2024) EllapsedTime: 175.3 seconds RetCode: 0 Status: OK CheckDir: GNET2.Rcheck Warnings: 0