Package: GNET2 Version: 1.20.0 Command: /Library/Frameworks/R.framework/Resources/bin/R CMD build --keep-empty-dirs --no-resave-data GNET2 StartedAt: 2024-10-16 19:40:06 -0400 (Wed, 16 Oct 2024) EndedAt: 2024-10-16 19:41:58 -0400 (Wed, 16 Oct 2024) EllapsedTime: 111.7 seconds RetCode: 0 Status: OK PackageFile: GNET2_1.20.0.tar.gz PackageFileSize: 786.2 KiB