Package: GNET2 Version: 1.20.0 Command: rm -rf GNET2.buildbin-libdir && mkdir GNET2.buildbin-libdir && /Users/biocbuild/BBS/utils/build-universal.sh GNET2_1.20.0.tar.gz /Library/Frameworks/R.framework/Resources/bin/R GNET2.buildbin-libdir StartedAt: 2024-10-17 16:17:19 -0400 (Thu, 17 Oct 2024) EndedAt: 2024-10-17 16:18:42 -0400 (Thu, 17 Oct 2024) EllapsedTime: 82.4 seconds RetCode: 0 Status: OK PackageFile: GNET2_1.20.0.tgz PackageFileSize: 910.9 KiB