Package: GNET2 Version: 1.20.0 Command: /Library/Frameworks/R.framework/Resources/bin/R CMD build --keep-empty-dirs --no-resave-data GNET2 StartedAt: 2024-06-09 16:49:31 -0400 (Sun, 09 Jun 2024) EndedAt: 2024-06-09 16:50:23 -0400 (Sun, 09 Jun 2024) EllapsedTime: 51.6 seconds RetCode: 0 Status: OK PackageFile: GNET2_1.20.0.tar.gz PackageFileSize: 786.3 KiB