Package: GNET2 Version: 1.20.0 Command: rm -rf GNET2.buildbin-libdir && mkdir GNET2.buildbin-libdir && /Users/biocbuild/BBS/utils/build-universal.sh GNET2_1.20.0.tar.gz /Library/Frameworks/R.framework/Resources/bin/R GNET2.buildbin-libdir StartedAt: 2024-06-10 00:20:48 -0400 (Mon, 10 Jun 2024) EndedAt: 2024-06-10 00:21:34 -0400 (Mon, 10 Jun 2024) EllapsedTime: 46.4 seconds RetCode: 0 Status: OK PackageFile: GNET2_1.20.0.tgz PackageFileSize: 910.3 KiB