Package: GNET2 Version: 1.20.0 Command: /Library/Frameworks/R.framework/Resources/bin/R CMD build --keep-empty-dirs --no-resave-data GNET2 StartedAt: 2024-06-09 22:21:41 -0400 (Sun, 09 Jun 2024) EndedAt: 2024-06-09 22:22:47 -0400 (Sun, 09 Jun 2024) EllapsedTime: 65.5 seconds RetCode: 0 Status: OK PackageFile: GNET2_1.20.0.tar.gz PackageFileSize: 786.5 KiB