Package: GNET2 Version: 1.20.0 Command: rm -rf GNET2.buildbin-libdir && mkdir GNET2.buildbin-libdir && /Users/biocbuild/BBS/utils/build-universal.sh GNET2_1.20.0.tar.gz /Library/Frameworks/R.framework/Resources/bin/R GNET2.buildbin-libdir StartedAt: 2024-10-18 18:46:22 -0400 (Fri, 18 Oct 2024) EndedAt: 2024-10-18 18:47:05 -0400 (Fri, 18 Oct 2024) EllapsedTime: 43.1 seconds RetCode: 0 Status: OK PackageFile: GNET2_1.20.0.tgz PackageFileSize: 912.6 KiB