Package: GMRP Version: 1.32.0 Command: E:\biocbuild\bbs-3.19-bioc\R\bin\R.exe CMD INSTALL GMRP StartedAt: 2024-10-16 16:16:49 -0400 (Wed, 16 Oct 2024) EndedAt: 2024-10-16 16:17:04 -0400 (Wed, 16 Oct 2024) EllapsedTime: 15.3 seconds RetCode: 0 Status: OK